BEGIN:VCALENDAR
VERSION:2.0
PRODID:-//Youth ID - ECPv6.5.1.3//NONSGML v1.0//EN
CALSCALE:GREGORIAN
METHOD:PUBLISH
X-ORIGINAL-URL:https://www.youthid.net
X-WR-CALDESC:Events for Youth ID
REFRESH-INTERVAL;VALUE=DURATION:PT1H
X-Robots-Tag:noindex
X-PUBLISHED-TTL:PT1H
BEGIN:VTIMEZONE
TZID:Europe/Paris
BEGIN:DAYLIGHT
TZOFFSETFROM:+0100
TZOFFSETTO:+0200
TZNAME:CEST
DTSTART:20240331T010000
END:DAYLIGHT
BEGIN:STANDARD
TZOFFSETFROM:+0200
TZOFFSETTO:+0100
TZNAME:CET
DTSTART:20241027T010000
END:STANDARD
END:VTIMEZONE
BEGIN:VEVENT
DTSTART;TZID=Europe/Paris:20240625T120000
DTEND;TZID=Europe/Paris:20240625T130000
DTSTAMP:20260420T033551
CREATED:20240618T094907Z
LAST-MODIFIED:20240618T095226Z
UID:14994-1719316800-1719320400@www.youthid.net
SUMMARY:Atelier Nomade Engagé mardi 12h
DESCRIPTION: Tout savoir sur les voyages engagés !  Qu’est-ce que le Volontariat ? Erasmus + ? Le CES ? Comment ça fonctionne ? Pendant cet atelier\, on t’explique tout et on répond à tes questions ! Viens voir comment voyager et t’impliquer dans un projet solidaire ! Partir en voyage quand on est jeune et fauché\, c’est possible !
URL:https://www.youthid.net/event/atelier-nomade-engage-mardi-12h/
LOCATION:Zoom
CATEGORIES:Evènement récurrent
ATTACH;FMTTYPE=image/jpeg:https://www.youthid.net/wp-content/uploads/2024/06/TEST-MARDI-12H.jpg
END:VEVENT
END:VCALENDAR